BEGIN:VCALENDAR
VERSION:2.0
PRODID:-//Destination Southern NSW - ECPv6.15.17.1//NONSGML v1.0//EN
CALSCALE:GREGORIAN
METHOD:PUBLISH
X-ORIGINAL-URL:https://dsnsw.com.au
X-WR-CALDESC:Events for Destination Southern NSW
REFRESH-INTERVAL;VALUE=DURATION:PT1H
X-Robots-Tag:noindex
X-PUBLISHED-TTL:PT1H
BEGIN:VTIMEZONE
TZID:Australia/Sydney
BEGIN:STANDARD
TZOFFSETFROM:+1100
TZOFFSETTO:+1000
TZNAME:AEST
DTSTART:20250405T160000
END:STANDARD
BEGIN:DAYLIGHT
TZOFFSETFROM:+1000
TZOFFSETTO:+1100
TZNAME:AEDT
DTSTART:20251004T160000
END:DAYLIGHT
BEGIN:STANDARD
TZOFFSETFROM:+1100
TZOFFSETTO:+1000
TZNAME:AEST
DTSTART:20260404T160000
END:STANDARD
BEGIN:DAYLIGHT
TZOFFSETFROM:+1000
TZOFFSETTO:+1100
TZNAME:AEDT
DTSTART:20261003T160000
END:DAYLIGHT
BEGIN:STANDARD
TZOFFSETFROM:+1100
TZOFFSETTO:+1000
TZNAME:AEST
DTSTART:20270403T160000
END:STANDARD
BEGIN:DAYLIGHT
TZOFFSETFROM:+1000
TZOFFSETTO:+1100
TZNAME:AEDT
DTSTART:20271002T160000
END:DAYLIGHT
END:VTIMEZONE
BEGIN:VEVENT
DTSTART;TZID=Australia/Sydney:20260430T163000
DTEND;TZID=Australia/Sydney:20260430T183000
DTSTAMP:20260426T085825
CREATED:20260330T211158Z
LAST-MODIFIED:20260330T211158Z
UID:4145-1777566600-1777573800@dsnsw.com.au
SUMMARY:Southern Yarns - Hilltops
DESCRIPTION:Southern Yarns is coming to Hilltops!\nWe’d love you to join the Destination Southern Board and team for a relaxed evening that combines good conversation with practical information you can actually use in your business. \nThe evening will include: \n\nTime to connect and share a drink or two over some nibbles\nAn update from Destination Southern\, including what’s new and what to be aware of right now\nThe opportunity to ask questions of the Destination Southern team and Board\nA chance to share what’s happening for you on the ground – including wins\, challenges and the kind of support that would make a real difference\n\nLocation: Ballinaclash Orchard and Cellar Door\nAddress: 4321/4335 Olympic Hwy\, Young NSW 2594\nDate: Thursday\, 30 April 2026\nTime: 4:30pm – 6:30pm (Drop in anytime throughout the evening!)\nCost: Free \nThis is a free event\, and we encourage you to bring a colleague or industry friend who might also benefit. Whether you’re new to the industry or an experienced pro\, if you’ve been meaning to reconnect\, ask a question\, or pick up a few practical ideas\, this event is for you. \nSave your spot here \nRegistering in advance helps us provide the best experience on the night and gives you the option to submit a question or share in advance. There’s no deadline – registrations are welcome right up until the event.
URL:https://dsnsw.com.au/event/southern-yarns-hilltops-apr-2026/
LOCATION:Ballinaclash Orchard and Cellar Door\, 4321/4335 Olympic Hwy\, Young\, NSW\, 2594\, Australia
CATEGORIES:business,development,networking,tourism
ATTACH;FMTTYPE=image/jpeg:https://dsnsw.com.au/wp-content/uploads/2026/03/Southern-Yarns-Hilltops-scaled.jpg
END:VEVENT
END:VCALENDAR